BEGIN:VCALENDAR
VERSION:2.0
PRODID:-//Luton FoodBank - ECPv6.15.20//NONSGML v1.0//EN
CALSCALE:GREGORIAN
METHOD:PUBLISH
X-WR-CALNAME:Luton FoodBank
X-ORIGINAL-URL:https://lutonfoodbank.org.uk
X-WR-CALDESC:Events for Luton FoodBank
REFRESH-INTERVAL;VALUE=DURATION:PT1H
X-Robots-Tag:noindex
X-PUBLISHED-TTL:PT1H
BEGIN:VTIMEZONE
TZID:UTC
BEGIN:STANDARD
TZOFFSETFROM:+0000
TZOFFSETTO:+0000
TZNAME:UTC
DTSTART:20250101T000000
END:STANDARD
END:VTIMEZONE
BEGIN:VEVENT
DTSTART;VALUE=DATE:20260305
DTEND;VALUE=DATE:20260306
DTSTAMP:20260425T182752
CREATED:20260206T134300Z
LAST-MODIFIED:20260304T103133Z
UID:8294-1772668800-1772755199@lutonfoodbank.org.uk
SUMMARY:Lets Eat Together: Challney High School For Boys 2026
DESCRIPTION:Primary Schools Colour Run				\n				\n				\n				\n					\n		\n			June 1\, 2026\n\n		\n	\n	  -  \n\n	June 12\, 2026\n\n	\n				\n				\n				\n				\n					\n	\n		\n\n	\n	Add to calendar	\n		\n	\n\n		\n			\n									\n	Google Calendar\n\n									\n	iCalendar\n\n									\n	Outlook 365\n\n									\n	Outlook Live\n\n							\n		\n\n		\n	\n\n				\n				\n				\n				\n							\n			\n						\n		\n						\n				\n				\n		\n					\n				\n				\n									We’re bringing back our exciting Primary Schools Colour Run! Schools will receive a Colour Run pack with everything they need\, and children will get sponsored to complete the run on your school premises. There will be prizes like stickers\, certificates\, wristbands\, yoyos and trophies for the child that raises the most funds in each school! The school that raises the most also receives a trophy for the school.  For more information\, email: yasmins@lutonfoodbank.org.uk
URL:https://lutonfoodbank.org.uk/event/lets-eat-together-challney-high-school-for-boys-2026/
LOCATION:Challney High School For Boys
CATEGORIES:Lets Eat Together,School Events
ATTACH;FMTTYPE=image/png:https://lutonfoodbank.org.uk/wp-content/uploads/2026/02/Challney-Boys-Lets-Eat-1280x720-1.png
END:VEVENT
BEGIN:VEVENT
DTSTART;VALUE=DATE:20260305
DTEND;VALUE=DATE:20260306
DTSTAMP:20260425T182752
CREATED:20250126T213719Z
LAST-MODIFIED:20260206T134523Z
UID:3336-1772668800-1772755199@lutonfoodbank.org.uk
SUMMARY:Lets Eat Together: Icknield High School 2026
DESCRIPTION:Primary Schools Colour Run				\n				\n				\n				\n					\n		\n			June 1\, 2026\n\n		\n	\n	  -  \n\n	June 12\, 2026\n\n	\n				\n				\n				\n				\n					\n	\n		\n\n	\n	Add to calendar	\n		\n	\n\n		\n			\n									\n	Google Calendar\n\n									\n	iCalendar\n\n									\n	Outlook 365\n\n									\n	Outlook Live\n\n							\n		\n\n		\n	\n\n				\n				\n				\n				\n							\n			\n						\n		\n						\n				\n				\n		\n					\n				\n				\n									We’re bringing back our exciting Primary Schools Colour Run! Schools will receive a Colour Run pack with everything they need\, and children will get sponsored to complete the run on your school premises. There will be prizes like stickers\, certificates\, wristbands\, yoyos and trophies for the child that raises the most funds in each school! The school that raises the most also receives a trophy for the school.  For more information\, email: yasmins@lutonfoodbank.org.uk
URL:https://lutonfoodbank.org.uk/event/lets-eat-together-icknield-high-school/
LOCATION:Icknield High School
CATEGORIES:Lets Eat Together,School Events
ATTACH;FMTTYPE=image/png:https://lutonfoodbank.org.uk/wp-content/uploads/2025/01/Icknield-High-Lets-Eat-1280x720-1.png
END:VEVENT
END:VCALENDAR