BEGIN:VCALENDAR
VERSION:2.0
PRODID:-//Luton FoodBank - ECPv6.15.20//NONSGML v1.0//EN
CALSCALE:GREGORIAN
METHOD:PUBLISH
X-WR-CALNAME:Luton FoodBank
X-ORIGINAL-URL:https://lutonfoodbank.org.uk
X-WR-CALDESC:Events for Luton FoodBank
REFRESH-INTERVAL;VALUE=DURATION:PT1H
X-Robots-Tag:noindex
X-PUBLISHED-TTL:PT1H
BEGIN:VTIMEZONE
TZID:UTC
BEGIN:STANDARD
TZOFFSETFROM:+0000
TZOFFSETTO:+0000
TZNAME:UTC
DTSTART:20240101T000000
END:STANDARD
END:VTIMEZONE
BEGIN:VEVENT
DTSTART;VALUE=DATE:20250307
DTEND;VALUE=DATE:20250309
DTSTAMP:20260425T113646
CREATED:20250227T040336Z
LAST-MODIFIED:20250304T171221Z
UID:4290-1741305600-1741478399@lutonfoodbank.org.uk
SUMMARY:Ramadan 24hr Challenge: Bilal Hussain's Fundraiser
DESCRIPTION:Ramadan 24hr Challenge: Bilal Hussain’s Fundraiser				\n				\n				\n				\n					\n		\n			March 7\, 2025\n\n		\n	\n	  -  \n\n	March 8\, 2025\n\n	\n				\n				\n				\n				\n							\n			\n			\n            \n            £3\,550 of £3\,000 raised        \n    \n            \n            \n                \n            \n        \n    \n\n\n \n					\n						\n				\n				\n				\n					\n	\n		\n\n	\n	Add to calendar	\n		\n	\n\n		\n			\n									\n	Google Calendar\n\n									\n	iCalendar\n\n									\n	Outlook 365\n\n									\n	Outlook Live\n\n							\n		\n\n		\n	\n\n				\n				\n				\n				\n							\n			\n						\n		\n						\n				\n				\n				\n									Bilal Hussain is taking part in Luton Foodbank’s Ramadan 24hr Challenge. This unique campaign invites us all to experience a day in the life of those facing food insecurity and homelessness—and to take action by supporting our community. My ChallengeI’ve committed to raising £500 to help fund essential food parcels\, supporting local initiatives that provide meals for those in need. By participating in this challenge\, I will fast\, sleep rough and rely solely on a 24-hour food parcel to truly understand the struggles many endure daily. How You Can HelpEvery donation\, no matter the size\, brings us closer to creating impactful change. Your support not only helps fund food parcels but also raises awareness about food insecurity in our community. Together\, we can make a meaningful difference. Thank you for joining me on this journey. Let’s come together this Ramadan to inspire hope\, promote solidarity and support those who need it most. 								\n				\n				\n		\n					\n				\n				\n									\n            \n            £3\,550 of £3\,000 raised        \n    \n            \n            \n                \n            \n        \n    \n\n\n\n\n    \n\n\n\n\n    \n        \n                                    \n                                    \n                                                K Ali                    \n                \n                \n                                    \n                        9 March 2025                     \n                            \n                        \n                \n                     Ramadan 24hr Challenge: … Amount Donated                \n\n                \n                              £10.00 \n                                    \n        \n            \n\n\n\n\n    \n        \n                                    \n                                    \n                                                Shaz A                    \n                \n                \n                                    \n                        8 March 2025                     \n                            \n                        \n                \n                     Ramadan 24hr Challenge: … Amount Donated                \n\n                \n                              £100.00 \n                                    \n        \n            \n\n\n\n\n    \n        \n                                    \n                                    \n                                                Zaki Kayani                    \n                \n                \n                                    \n                        8 March 2025                     \n                            \n                        \n                \n                     Ramadan 24hr Challenge: … Amount Donated                \n\n                \n                              £100.00 \n                                    \n        \n            \n\n\n\n\n    \n        \n                                    \n                                    \n                                                Ali Azim                    \n                \n                \n                                    \n                        8 March 2025                     \n                            \n                        \n                \n                     Ramadan 24hr Challenge: … Amount Donated                \n\n                \n                              £25.00 \n                                    \n        \n            \n\n\n\n\n    \n        \n                                    \n                                    \n                                                Omer Shafi                    \n                \n                \n                                    \n                        8 March 2025                     \n                            \n                        \n                \n                     Ramadan 24hr Challenge: … Amount Donated                \n\n                \n                              £25.00 \n                                    \n        \n            \n\n\n\n\n    \n        \n                                    \n                                    \n                                                Bilal Bilal                    \n                \n                \n                                    \n                        8 March 2025                     \n                            \n                        \n                \n                     Ramadan 24hr Challenge: … Amount Donated                \n\n                \n                              £50.00 \n                                    \n        \n            \n\n\n\n\n    \n        \n                                    \n                                    \n                                                Ijaz Ali                    \n                \n                \n                                    \n                        8 March 2025                     \n                            \n                        \n                \n                     Ramadan 24hr Challenge: … Amount Donated                \n\n                \n                              £20.00 \n                                    \n        \n            \n\n\n\n\n    \n        \n                                    \n                                    \n                                                Farhan Qurashi                    \n                \n                \n                                    \n                        8 March 2025                     \n                            \n                        \n                \n                     Ramadan 24hr Challenge: … Amount Donated                \n\n                \n                              £50.00 \n                                    \n        \n            \n\n\n\n\n    \n        \n                                    \n                                    \n                                                Ishtiaq Mahmood                    \n                \n                \n                                    \n                        8 March 2025                     \n                            \n                        \n                \n                     Ramadan 24hr Challenge: … Amount Donated                \n\n                \n                              £50.00 \n                                    \n        \n            \n\n\n\n\n    \n        \n                                    \n                                    \n                                                Farhan Zakaria                    \n                \n                \n                                    \n                        8 March 2025                     \n                            \n                        \n                \n                     Ramadan 24hr Challenge: … Amount Donated                \n\n                \n                              £6.00 \n                                    \n        \n            \n\n\n\n\n    \n        \n                                    \n                                    \n                                                Farhan Zakaria                    \n                \n                \n                                    \n                        8 March 2025                     \n                            \n                        \n                \n                     Ramadan 24hr Challenge: … Amount Donated                \n\n                \n                              £14.00 \n                                    \n        \n            \n\n\n\n\n    \n        \n                                    \n                                    \n                                                Samira Hussain                    \n                \n                \n                                    \n                        8 March 2025                     \n                            \n                        \n                \n                     Ramadan 24hr Challenge: … Amount Donated                \n\n                \n                              £70.00 \n                                    \n        \n            \n\nLoad more 								\n				\n					\n				\n		\n					\n				\n				\n							\n			\n						\n		\n						\n				\n				\n				\n					\n	\n\n	Categories:	\n		Ramadan 24 hr Challenge
URL:https://lutonfoodbank.org.uk/event/ramadan-24hr-challenge-bilal-hussain-fundraiser/
CATEGORIES:Ramadan 24 hr Challenge
END:VEVENT
END:VCALENDAR