BEGIN:VCALENDAR
VERSION:2.0
PRODID:-//Luton FoodBank - ECPv6.15.17.1//NONSGML v1.0//EN
CALSCALE:GREGORIAN
METHOD:PUBLISH
X-WR-CALNAME:Luton FoodBank
X-ORIGINAL-URL:https://lutonfoodbank.org.uk
X-WR-CALDESC:Events for Luton FoodBank
REFRESH-INTERVAL;VALUE=DURATION:PT1H
X-Robots-Tag:noindex
X-PUBLISHED-TTL:PT1H
BEGIN:VTIMEZONE
TZID:UTC
BEGIN:STANDARD
TZOFFSETFROM:+0000
TZOFFSETTO:+0000
TZNAME:UTC
DTSTART:20250101T000000
END:STANDARD
END:VTIMEZONE
BEGIN:VEVENT
DTSTART;VALUE=DATE:20260601
DTEND;VALUE=DATE:20260613
DTSTAMP:20260422T015743
CREATED:20260421T090122Z
LAST-MODIFIED:20260421T101550Z
UID:29535-1780272000-1781308799@lutonfoodbank.org.uk
SUMMARY:Primary Schools Colour Run
DESCRIPTION:Primary Schools Colour Run				\n				\n				\n				\n					\n		\n			June 1\, 2026\n\n		\n	\n	  -  \n\n	June 12\, 2026\n\n	\n				\n				\n				\n				\n					\n	\n		\n\n	\n	Add to calendar	\n		\n	\n\n		\n			\n									\n	Google Calendar\n\n									\n	iCalendar\n\n									\n	Outlook 365\n\n									\n	Outlook Live\n\n							\n		\n\n		\n	\n\n				\n				\n				\n				\n							\n			\n						\n		\n						\n				\n				\n		\n					\n				\n				\n									We’re bringing back our exciting Primary Schools Colour Run! Schools will receive a Colour Run pack with everything they need\, and children will get sponsored to complete the run on your school premises. There will be prizes like stickers\, certificates\, wristbands\, yoyos and trophies for the child that raises the most funds in each school! The school that raises the most also receives a trophy for the school.  For more information\, email: yasmins@lutonfoodbank.org.uk
URL:https://lutonfoodbank.org.uk/event/primary-schools-colour-run/
LOCATION:Your school!
CATEGORIES:School Events
ATTACH;FMTTYPE=image/jpeg:https://lutonfoodbank.org.uk/wp-content/uploads/2026/04/Event-Website-1280x420-1.jpg
END:VEVENT
END:VCALENDAR